BEGIN:VCALENDAR
VERSION:2.0
PRODID:-//rssny.org//NONSGML kigkonsult.se iCalcreator 2.30.10//
CALSCALE:GREGORIAN
METHOD:PUBLISH
UID:d7ee1d70-a0a2-4629-a8b9-351591ee8f05
X-WR-CALDESC:To register: https://nyph.zoom.us/webinar/register/WN_vjHKu7nb
 QJmlT7mHuOfrLw#/registration \n\nPhone Access: (212) 225-8997\n\nMeeting I
 D: 989 7741 9228 \n\nVisit events.nyp.org/Brooklyn for more information ab
 out community programming. Spanish and ASL translation will be available
X-WR-RELCALID:4d783d15fe8dbc4a4d3e4a4b82a279f4
X-WR-TIMEZONE:America/New_York
BEGIN:VTIMEZONE
TZID:America/New_York
BEGIN:STANDARD
TZNAME:EST
DTSTART:20251102T020000
TZOFFSETFROM:-0400
TZOFFSETTO:-0500
RDATE:20261101T020000
END:STANDARD
BEGIN:DAYLIGHT
TZNAME:EDT
DTSTART:20250309T020000
TZOFFSETFROM:-0500
TZOFFSETTO:-0400
RDATE:20260308T020000
RDATE:20270314T020000
END:DAYLIGHT
END:VTIMEZONE
BEGIN:VEVENT
UID:9d20d380-3ad7-49fd-af22-6dc8ccdb5965
DTSTAMP:20260420T234747Z
DESCRIPTION:To register: https://nyph.zoom.us/webinar/register/WN_vjHKu7nbQ
 JmlT7mHuOfrLw#/registration \n\nPhone Access: (212) 225-8997\n\nMeeting ID
 : 989 7741 9228 \n\nVisit events.nyp.org/Brooklyn for more information abo
 ut community programming. Spanish and ASL translation will be available
DTSTART;TZID=America/New_York:20260224T100000
DTEND;TZID=America/New_York:20260224T110000
LOCATION:
SUMMARY:Weight Management and Lifestyle Medicine with NY Presbyterian (Onli
 ne) (Not an RSS event)
END:VEVENT
END:VCALENDAR
