BEGIN:VCALENDAR
VERSION:2.0
PRODID:-//rssny.org//NONSGML kigkonsult.se iCalcreator 2.30.10//
CALSCALE:GREGORIAN
METHOD:PUBLISH
UID:adef2074-48b8-4272-a978-9140c0257983
X-WR-CALDESC:
X-WR-RELCALID:c7b6e79a3fefcd8e0d9d3727e716328a
X-WR-TIMEZONE:America/New_York
BEGIN:VTIMEZONE
TZID:America/New_York
BEGIN:STANDARD
TZNAME:EST
DTSTART:20251102T020000
TZOFFSETFROM:-0400
TZOFFSETTO:-0500
RDATE:20261101T020000
END:STANDARD
BEGIN:DAYLIGHT
TZNAME:EDT
DTSTART:20250309T020000
TZOFFSETFROM:-0500
TZOFFSETTO:-0400
RDATE:20260308T020000
RDATE:20270314T020000
END:DAYLIGHT
END:VTIMEZONE
BEGIN:VEVENT
UID:e110fb1b-d3f8-4ee1-a49a-3c1f98be3119
DTSTAMP:20260420T234505Z
DESCRIPTION:
DTSTART;TZID=America/New_York:20260218T130000
DTEND;TZID=America/New_York:20260218T150000
LOCATION:
SUMMARY:Movies In Center
END:VEVENT
END:VCALENDAR
