BEGIN:VCALENDAR
VERSION:2.0
PRODID:-//rssny.org//NONSGML kigkonsult.se iCalcreator 2.30.10//
CALSCALE:GREGORIAN
METHOD:PUBLISH
UID:e52343de-afc4-4804-9923-4c713c882f22
X-WR-CALDESC:Join us for breakfast at the Center!
X-WR-RELCALID:d3ef0cc055b11bd7f2037a89de51c55f
X-WR-TIMEZONE:America/New_York
BEGIN:VTIMEZONE
TZID:America/New_York
BEGIN:STANDARD
TZNAME:EST
DTSTART:20251102T020000
TZOFFSETFROM:-0400
TZOFFSETTO:-0500
RDATE:20261101T020000
END:STANDARD
BEGIN:DAYLIGHT
TZNAME:EDT
DTSTART:20250309T020000
TZOFFSETFROM:-0500
TZOFFSETTO:-0400
RDATE:20260308T020000
RDATE:20270314T020000
END:DAYLIGHT
END:VTIMEZONE
BEGIN:VEVENT
UID:a9eacc2c-1589-4166-ac83-2a5d51769f18
DTSTAMP:20260420T234342Z
DESCRIPTION:Join us for breakfast at the Center!
DTSTART;TZID=America/New_York:20260211T090000
DTEND;TZID=America/New_York:20260211T100000
LOCATION:
SUMMARY:Breakfast Club (In Center)
END:VEVENT
END:VCALENDAR
