BEGIN:VCALENDAR
VERSION:2.0
PRODID:-//rssny.org//NONSGML kigkonsult.se iCalcreator 2.30.10//
CALSCALE:GREGORIAN
METHOD:PUBLISH
UID:96ea45bb-1c6a-43b1-8045-19cd83251d8d
X-WR-CALDESC:To register: https://rssny.org/class-forms/chair-yoga-with-ani
 ta.html
X-WR-RELCALID:9a7a7997286fbbf55f38f38c3aa39529
X-WR-TIMEZONE:America/New_York
BEGIN:VTIMEZONE
TZID:America/New_York
BEGIN:STANDARD
TZNAME:EST
DTSTART:20251102T020000
TZOFFSETFROM:-0400
TZOFFSETTO:-0500
RDATE:20261101T020000
END:STANDARD
BEGIN:DAYLIGHT
TZNAME:EDT
DTSTART:20250309T020000
TZOFFSETFROM:-0500
TZOFFSETTO:-0400
RDATE:20260308T020000
RDATE:20270314T020000
END:DAYLIGHT
END:VTIMEZONE
BEGIN:VEVENT
UID:afd53aca-42e3-4562-9d94-a6c749d91e75
DTSTAMP:20260421T013152Z
DESCRIPTION:To register: https://rssny.org/class-forms/chair-yoga-with-anit
 a.html
DTSTART;TZID=America/New_York:20260129T090000
DTEND;TZID=America/New_York:20260129T094500
LOCATION:https://rssny.org/class-forms/chair-yoga-with-anita.html
SUMMARY:Chair Yoga with Anita: Presence in Motion (Online)
END:VEVENT
END:VCALENDAR
