BEGIN:VCALENDAR
VERSION:2.0
PRODID:-//rssny.org//NONSGML kigkonsult.se iCalcreator 2.30.10//
CALSCALE:GREGORIAN
METHOD:PUBLISH
UID:4ed8e497-b2a5-4589-99ec-2f31f4ca2fdc
X-WR-CALDESC:
X-WR-RELCALID:ddbefaf5d3280c6c65545219fa440035
X-WR-TIMEZONE:America/New_York
BEGIN:VTIMEZONE
TZID:America/New_York
BEGIN:STANDARD
TZNAME:EST
DTSTART:20251102T020000
TZOFFSETFROM:-0400
TZOFFSETTO:-0500
RDATE:20261101T020000
END:STANDARD
BEGIN:DAYLIGHT
TZNAME:EDT
DTSTART:20250309T020000
TZOFFSETFROM:-0500
TZOFFSETTO:-0400
RDATE:20260308T020000
RDATE:20270314T020000
END:DAYLIGHT
END:VTIMEZONE
BEGIN:VEVENT
UID:6be63f38-4dd1-4191-ba2e-a63852afd74e
DTSTAMP:20260421T012659Z
DESCRIPTION:
DTSTART;TZID=America/New_York:20260128T130000
DTEND;TZID=America/New_York:20260128T150000
LOCATION:
SUMMARY:Movie: A River Runs Through It
END:VEVENT
END:VCALENDAR
