BEGIN:VCALENDAR
VERSION:2.0
PRODID:-//rssny.org//NONSGML kigkonsult.se iCalcreator 2.30.10//
CALSCALE:GREGORIAN
METHOD:PUBLISH
UID:a537d768-15db-4ee9-91c3-a48d878607de
X-WR-CALDESC:Join us for breakfast at the Center!
X-WR-RELCALID:ab5dfd1121ce8547186b396f1c3091e8
X-WR-TIMEZONE:America/New_York
BEGIN:VTIMEZONE
TZID:America/New_York
BEGIN:STANDARD
TZNAME:EST
DTSTART:20251102T020000
TZOFFSETFROM:-0400
TZOFFSETTO:-0500
RDATE:20261101T020000
END:STANDARD
BEGIN:DAYLIGHT
TZNAME:EDT
DTSTART:20250309T020000
TZOFFSETFROM:-0500
TZOFFSETTO:-0400
RDATE:20260308T020000
RDATE:20270314T020000
END:DAYLIGHT
END:VTIMEZONE
BEGIN:VEVENT
UID:942d3fd5-d35f-4fd5-89c2-4c5909b6273e
DTSTAMP:20260421T012130Z
DESCRIPTION:Join us for breakfast at the Center!
DTSTART;TZID=America/New_York:20260128T090000
DTEND;TZID=America/New_York:20260128T100000
LOCATION:
SUMMARY:Breakfast Club (In Center)
END:VEVENT
END:VCALENDAR
