BEGIN:VCALENDAR
VERSION:2.0
PRODID:-//rssny.org//NONSGML kigkonsult.se iCalcreator 2.30.10//
CALSCALE:GREGORIAN
METHOD:PUBLISH
UID:359446c7-e183-40a9-a369-411704818207
X-WR-CALDESC:
X-WR-RELCALID:902d08e7524eb7864045ae0cbd8bfcc2
X-WR-TIMEZONE:America/New_York
BEGIN:VTIMEZONE
TZID:America/New_York
BEGIN:STANDARD
TZNAME:EST
DTSTART:20251102T020000
TZOFFSETFROM:-0400
TZOFFSETTO:-0500
RDATE:20261101T020000
END:STANDARD
BEGIN:DAYLIGHT
TZNAME:EDT
DTSTART:20250309T020000
TZOFFSETFROM:-0500
TZOFFSETTO:-0400
RDATE:20260308T020000
RDATE:20270314T020000
END:DAYLIGHT
END:VTIMEZONE
BEGIN:VEVENT
UID:e85b179b-41ee-41dd-bb0d-6a9528d08449
DTSTAMP:20260421T012434Z
DESCRIPTION:
DTSTART;TZID=America/New_York:20260114T130000
DTEND;TZID=America/New_York:20260114T150000
LOCATION:
SUMMARY:Movie: Guess Who's Coming to Dinner?
END:VEVENT
END:VCALENDAR
