BEGIN:VCALENDAR
VERSION:2.0
PRODID:-//rssny.org//NONSGML kigkonsult.se iCalcreator 2.30.10//
CALSCALE:GREGORIAN
METHOD:PUBLISH
UID:fa89b8cc-71ab-4e93-9e6c-b86db9fec476
X-WR-CALDESC:Come and start your morning with Chair yoga and meditation.
X-WR-RELCALID:0f1011167bd84d8875ae505b4e60399e
X-WR-TIMEZONE:America/New_York
BEGIN:VTIMEZONE
TZID:America/New_York
BEGIN:STANDARD
TZNAME:EST
DTSTART:20251102T020000
TZOFFSETFROM:-0400
TZOFFSETTO:-0500
RDATE:20261101T020000
END:STANDARD
BEGIN:DAYLIGHT
TZNAME:EDT
DTSTART:20250309T020000
TZOFFSETFROM:-0500
TZOFFSETTO:-0400
RDATE:20260308T020000
RDATE:20270314T020000
END:DAYLIGHT
END:VTIMEZONE
BEGIN:VEVENT
UID:27b07e24-bfd8-4596-9f1c-657b1ed6924c
DTSTAMP:20260421T013228Z
DESCRIPTION:Come and start your morning with Chair yoga and meditation.
DTSTART;TZID=America/New_York:20260108T094500
DTEND;TZID=America/New_York:20260108T104500
LOCATION:
SUMMARY:Chair Yoga with Anita: Presence in Motion (In Center)
END:VEVENT
END:VCALENDAR
