BEGIN:VCALENDAR
VERSION:2.0
PRODID:-//rssny.org//NONSGML kigkonsult.se iCalcreator 2.30.10//
CALSCALE:GREGORIAN
METHOD:PUBLISH
UID:136c0aee-b9cb-4b8d-95e2-9ff97f69a525
X-WR-CALDESC:Join chorus and sing with the remarkable soprano Cheryl Warfie
 ld. Listen to her beautiful voice here - https://youtu.be/7stskbP6qa0\n\nY
 ou will get the joy of singing and the opportunity to learn not only from 
 a great singer\, but an accomplished teacher as well.\n\nLearn more about 
 Cheryl by going to her website - https://www.cherylwarfield.nyc/
X-WR-RELCALID:ad6a94cf3b875ac531174c9d8cb8c71b
X-WR-TIMEZONE:America/New_York
BEGIN:VTIMEZONE
TZID:America/New_York
BEGIN:STANDARD
TZNAME:EST
DTSTART:20251102T020000
TZOFFSETFROM:-0400
TZOFFSETTO:-0500
RDATE:20261101T020000
END:STANDARD
BEGIN:DAYLIGHT
TZNAME:EDT
DTSTART:20250309T020000
TZOFFSETFROM:-0500
TZOFFSETTO:-0400
RDATE:20260308T020000
RDATE:20270314T020000
END:DAYLIGHT
END:VTIMEZONE
BEGIN:VEVENT
UID:092c7377-4c6e-4497-927f-076709a2c9fe
DTSTAMP:20260421T024409Z
DESCRIPTION:Join chorus and sing with the remarkable soprano Cheryl Warfiel
 d. Listen to her beautiful voice here - https://youtu.be/7stskbP6qa0\n\nYo
 u will get the joy of singing and the opportunity to learn not only from a
  great singer\, but an accomplished teacher as well.\n\nLearn more about C
 heryl by going to her website - https://www.cherylwarfield.nyc/
DTSTART;TZID=America/New_York:20251231T130000
DTEND;TZID=America/New_York:20251231T140000
LOCATION:
SUMMARY:Chorus with Cheryl (IN CENTER)
END:VEVENT
END:VCALENDAR
