BEGIN:VCALENDAR
VERSION:2.0
PRODID:-//rssny.org//NONSGML kigkonsult.se iCalcreator 2.30.10//
CALSCALE:GREGORIAN
METHOD:PUBLISH
UID:d8b3447d-8a2c-44af-ac07-c6fff6d7049e
X-WR-CALDESC:
X-WR-RELCALID:a753d5271aa7b526226123536a21a51f
X-WR-TIMEZONE:America/New_York
BEGIN:VTIMEZONE
TZID:America/New_York
BEGIN:STANDARD
TZNAME:EST
DTSTART:20251102T020000
TZOFFSETFROM:-0400
TZOFFSETTO:-0500
RDATE:20261101T020000
END:STANDARD
BEGIN:DAYLIGHT
TZNAME:EDT
DTSTART:20250309T020000
TZOFFSETFROM:-0500
TZOFFSETTO:-0400
RDATE:20260308T020000
RDATE:20270314T020000
END:DAYLIGHT
END:VTIMEZONE
BEGIN:VEVENT
UID:02034c0b-8fa8-4692-9734-373af62161bb
DTSTAMP:20260421T025211Z
DESCRIPTION:
DTSTART;TZID=America/New_York:20251231T120000
DTEND;TZID=America/New_York:20251231T130000
LOCATION:
SUMMARY:Lunch In Center
END:VEVENT
END:VCALENDAR
