BEGIN:VCALENDAR
VERSION:2.0
PRODID:-//rssny.org//NONSGML kigkonsult.se iCalcreator 2.30.10//
CALSCALE:GREGORIAN
METHOD:PUBLISH
UID:76f70c66-7c7d-428e-8f6c-2cfbcfc007be
X-WR-CALDESC:
X-WR-RELCALID:d4ca50ef6e3702f4b37215857b47f8c8
X-WR-TIMEZONE:America/New_York
BEGIN:VTIMEZONE
TZID:America/New_York
BEGIN:STANDARD
TZNAME:EST
DTSTART:20251102T020000
TZOFFSETFROM:-0400
TZOFFSETTO:-0500
RDATE:20261101T020000
END:STANDARD
BEGIN:DAYLIGHT
TZNAME:EDT
DTSTART:20250309T020000
TZOFFSETFROM:-0500
TZOFFSETTO:-0400
RDATE:20260308T020000
RDATE:20270314T020000
END:DAYLIGHT
END:VTIMEZONE
BEGIN:VEVENT
UID:c96bcc99-1f59-49ac-bfaf-a746206b1d85
DTSTAMP:20260421T030453Z
DESCRIPTION:
DTSTART;TZID=America/New_York:20251224T130000
DTEND;TZID=America/New_York:20251224T150000
LOCATION:
SUMMARY:Movies In Center: The Santa Clause
END:VEVENT
END:VCALENDAR
