BEGIN:VCALENDAR
VERSION:2.0
PRODID:-//rssny.org//NONSGML kigkonsult.se iCalcreator 2.30.10//
CALSCALE:GREGORIAN
METHOD:PUBLISH
UID:1af36cc5-b981-41c1-975e-2bd1c5468c2f
X-WR-CALDESC:Weekly non-competitive bridge game
X-WR-RELCALID:a4d7f7af88181dc33e402c893cfcd631
X-WR-TIMEZONE:America/New_York
BEGIN:VTIMEZONE
TZID:America/New_York
BEGIN:STANDARD
TZNAME:EST
DTSTART:20251102T020000
TZOFFSETFROM:-0400
TZOFFSETTO:-0500
RDATE:20261101T020000
END:STANDARD
BEGIN:DAYLIGHT
TZNAME:EDT
DTSTART:20250309T020000
TZOFFSETFROM:-0500
TZOFFSETTO:-0400
RDATE:20260308T020000
RDATE:20270314T020000
END:DAYLIGHT
END:VTIMEZONE
BEGIN:VEVENT
UID:a1725b85-7f1f-4b65-a236-a0069f7f22ac
DTSTAMP:20260421T025511Z
DESCRIPTION:Weekly non-competitive bridge game
DTSTART;TZID=America/New_York:20251219T131500
DTEND;TZID=America/New_York:20251219T163000
LOCATION:
SUMMARY:Leisure Games Bridge (In Center)
END:VEVENT
END:VCALENDAR
