BEGIN:VCALENDAR
VERSION:2.0
PRODID:-//rssny.org//NONSGML kigkonsult.se iCalcreator 2.30.10//
CALSCALE:GREGORIAN
METHOD:PUBLISH
UID:baa28934-90d9-4d94-a7e0-a7f60aba7c0e
X-WR-CALDESC:
X-WR-RELCALID:cd80fb7c228688f2e714aed427e27a7b
X-WR-TIMEZONE:America/New_York
BEGIN:VTIMEZONE
TZID:America/New_York
BEGIN:STANDARD
TZNAME:EST
DTSTART:20251102T020000
TZOFFSETFROM:-0400
TZOFFSETTO:-0500
RDATE:20261101T020000
END:STANDARD
BEGIN:DAYLIGHT
TZNAME:EDT
DTSTART:20250309T020000
TZOFFSETFROM:-0500
TZOFFSETTO:-0400
RDATE:20260308T020000
RDATE:20270314T020000
END:DAYLIGHT
END:VTIMEZONE
BEGIN:VEVENT
UID:6849cc77-0ece-43d0-a850-83b2e458a416
DTSTAMP:20260421T030528Z
DESCRIPTION:
DTSTART;TZID=America/New_York:20251217T143000
DTEND;TZID=America/New_York:20251217T160000
LOCATION:
SUMMARY:Movies In Center: Holiday Twist
END:VEVENT
END:VCALENDAR
