BEGIN:VCALENDAR
VERSION:2.0
PRODID:-//rssny.org//NONSGML kigkonsult.se iCalcreator 2.30.10//
CALSCALE:GREGORIAN
METHOD:PUBLISH
UID:ced7a60d-8a42-404a-ae8f-e894cd35b362
X-WR-CALDESC:Get the holidays started with the Horace Mann Outreach Club as
  they perform music for the season.
X-WR-RELCALID:698ce7f694025c1c7f487fff8076e9da
X-WR-TIMEZONE:America/New_York
BEGIN:VTIMEZONE
TZID:America/New_York
BEGIN:STANDARD
TZNAME:EST
DTSTART:20251102T020000
TZOFFSETFROM:-0400
TZOFFSETTO:-0500
RDATE:20261101T020000
END:STANDARD
BEGIN:DAYLIGHT
TZNAME:EDT
DTSTART:20250309T020000
TZOFFSETFROM:-0500
TZOFFSETTO:-0400
RDATE:20260308T020000
RDATE:20270314T020000
END:DAYLIGHT
END:VTIMEZONE
BEGIN:VEVENT
UID:8d3fb705-e088-4e22-a795-57fba63df12c
DTSTAMP:20260421T031701Z
DESCRIPTION:Get the holidays started with the Horace Mann Outreach Club as 
 they perform music for the season.
DTSTART;TZID=America/New_York:20251210T150000
DTEND;TZID=America/New_York:20251210T160000
LOCATION:
SUMMARY:Horace Mann Outreach Club Holiday Concert (Hybrid)
END:VEVENT
END:VCALENDAR
