BEGIN:VCALENDAR
VERSION:2.0
PRODID:-//rssny.org//NONSGML kigkonsult.se iCalcreator 2.30.10//
CALSCALE:GREGORIAN
METHOD:PUBLISH
UID:6560f3c7-c5c5-4a61-85e3-e2057e59fb29
X-WR-CALDESC:
X-WR-RELCALID:e24015f338527ad4a1b709e6705230f1
X-WR-TIMEZONE:America/New_York
BEGIN:VTIMEZONE
TZID:America/New_York
BEGIN:STANDARD
TZNAME:EST
DTSTART:20251102T020000
TZOFFSETFROM:-0400
TZOFFSETTO:-0500
RDATE:20261101T020000
END:STANDARD
BEGIN:DAYLIGHT
TZNAME:EDT
DTSTART:20250309T020000
TZOFFSETFROM:-0500
TZOFFSETTO:-0400
RDATE:20260308T020000
RDATE:20270314T020000
END:DAYLIGHT
END:VTIMEZONE
BEGIN:VEVENT
UID:9b5a0ac3-4d04-42cc-9439-fcef39de5ab7
DTSTAMP:20260421T024809Z
DESCRIPTION:
DTSTART;TZID=America/New_York:20251210T130000
DTEND;TZID=America/New_York:20251210T150000
LOCATION:
SUMMARY:Movies In Center
END:VEVENT
END:VCALENDAR
