BEGIN:VCALENDAR
VERSION:2.0
PRODID:-//rssny.org//NONSGML kigkonsult.se iCalcreator 2.30.10//
CALSCALE:GREGORIAN
METHOD:PUBLISH
UID:cd9ee4e7-7454-4178-bf32-28b966cec38e
X-WR-CALDESC:REGISTER Here - https://rssny.org/class-forms/qi-gong-with-bru
 ce.html\n\n.
X-WR-RELCALID:a12287e48f4732dfc675c8cfba083030
X-WR-TIMEZONE:America/New_York
BEGIN:VTIMEZONE
TZID:America/New_York
BEGIN:STANDARD
TZNAME:EST
DTSTART:20251102T020000
TZOFFSETFROM:-0400
TZOFFSETTO:-0500
RDATE:20261101T020000
END:STANDARD
BEGIN:DAYLIGHT
TZNAME:EDT
DTSTART:20250309T020000
TZOFFSETFROM:-0500
TZOFFSETTO:-0400
RDATE:20260308T020000
RDATE:20270314T020000
END:DAYLIGHT
END:VTIMEZONE
BEGIN:VEVENT
UID:3ef015d7-d60d-42a3-b4b2-bf076468bd56
DTSTAMP:20260421T025806Z
DESCRIPTION:REGISTER Here - https://rssny.org/class-forms/qi-gong-with-bruc
 e.html\n\n.
DTSTART;TZID=America/New_York:20251209T100000
DTEND;TZID=America/New_York:20251209T110000
LOCATION:https://rssny.org/class-forms/qi-gong-with-bruce.html
SUMMARY:Qi Gong with Bruce (HYBRID) - Instructor In Center
END:VEVENT
END:VCALENDAR
