BEGIN:VCALENDAR
VERSION:2.0
PRODID:-//rssny.org//NONSGML kigkonsult.se iCalcreator 2.30.10//
CALSCALE:GREGORIAN
METHOD:PUBLISH
UID:cb8bba69-de26-437e-91e9-d8cd215fda3a
X-WR-CALDESC:Join us for breakfast at the Center!
X-WR-RELCALID:1ef8152b8ddb4d6e36d18d5ccb0e4cb7
X-WR-TIMEZONE:America/New_York
BEGIN:VTIMEZONE
TZID:America/New_York
BEGIN:STANDARD
TZNAME:EST
DTSTART:20251102T020000
TZOFFSETFROM:-0400
TZOFFSETTO:-0500
RDATE:20261101T020000
END:STANDARD
BEGIN:DAYLIGHT
TZNAME:EDT
DTSTART:20250309T020000
TZOFFSETFROM:-0500
TZOFFSETTO:-0400
RDATE:20260308T020000
RDATE:20270314T020000
END:DAYLIGHT
END:VTIMEZONE
BEGIN:VEVENT
UID:223af177-87ff-4fa2-acd3-99de709a4c88
DTSTAMP:20260421T025420Z
DESCRIPTION:Join us for breakfast at the Center!
DTSTART;TZID=America/New_York:20251203T090000
DTEND;TZID=America/New_York:20251203T100000
LOCATION:
SUMMARY:Breakfast Club (In Center)
END:VEVENT
END:VCALENDAR
