BEGIN:VCALENDAR
VERSION:2.0
PRODID:-//rssny.org//NONSGML kigkonsult.se iCalcreator 2.30.10//
CALSCALE:GREGORIAN
METHOD:PUBLISH
UID:50f4c19c-5254-480e-b4bd-6fd82591dec8
X-WR-CALDESC:Please fill out this form:\n\nhttps://rssny.org/class-forms/te
 chnology-training.html
X-WR-RELCALID:4033e2d75dcaa458468b647eb9a43963
X-WR-TIMEZONE:America/New_York
BEGIN:VTIMEZONE
TZID:America/New_York
BEGIN:STANDARD
TZNAME:EST
DTSTART:20251102T020000
TZOFFSETFROM:-0400
TZOFFSETTO:-0500
RDATE:20261101T020000
END:STANDARD
BEGIN:DAYLIGHT
TZNAME:EDT
DTSTART:20250309T020000
TZOFFSETFROM:-0500
TZOFFSETTO:-0400
RDATE:20260308T020000
RDATE:20270314T020000
END:DAYLIGHT
END:VTIMEZONE
BEGIN:VEVENT
UID:eb4371f0-e81a-4845-b13a-49cd18cfec32
DTSTAMP:20260421T024436Z
DESCRIPTION:Please fill out this form:\n\nhttps://rssny.org/class-forms/tec
 hnology-training.html
DTSTART;TZID=America/New_York:20251202T110000
DTEND;TZID=America/New_York:20251202T120000
LOCATION:https://rssny.org/class-forms/technology-training.html
SUMMARY:Technology Group Training with Caroline: Online
END:VEVENT
END:VCALENDAR
