BEGIN:VCALENDAR
VERSION:2.0
PRODID:-//rssny.org//NONSGML kigkonsult.se iCalcreator 2.30.10//
CALSCALE:GREGORIAN
METHOD:PUBLISH
UID:72ed8ea0-55f3-48f4-923b-42a870214bf6
X-WR-CALDESC:Join us for breakfast at the Center!
X-WR-RELCALID:3ef0e05c845c8413eaa2e09b2a462e8b
X-WR-TIMEZONE:America/New_York
BEGIN:VTIMEZONE
TZID:America/New_York
BEGIN:STANDARD
TZNAME:EST
DTSTART:20251102T020000
TZOFFSETFROM:-0400
TZOFFSETTO:-0500
RDATE:20261101T020000
END:STANDARD
BEGIN:DAYLIGHT
TZNAME:EDT
DTSTART:20250309T020000
TZOFFSETFROM:-0500
TZOFFSETTO:-0400
RDATE:20260308T020000
RDATE:20270314T020000
END:DAYLIGHT
END:VTIMEZONE
BEGIN:VEVENT
UID:d916aabf-babe-40fb-9c8c-cb738ead1c9f
DTSTAMP:20260421T043028Z
DESCRIPTION:Join us for breakfast at the Center!
DTSTART;TZID=America/New_York:20251126T090000
DTEND;TZID=America/New_York:20251126T100000
LOCATION:
SUMMARY:Breakfast Club (In Center)
END:VEVENT
END:VCALENDAR
