BEGIN:VCALENDAR
VERSION:2.0
PRODID:-//rssny.org//NONSGML kigkonsult.se iCalcreator 2.30.10//
CALSCALE:GREGORIAN
METHOD:PUBLISH
UID:a42da9f3-7c3f-46ab-a9a1-4377345682c2
X-WR-CALDESC:
X-WR-RELCALID:47f8bf44ccc1f83a486995498b65775c
X-WR-TIMEZONE:America/New_York
BEGIN:VTIMEZONE
TZID:America/New_York
BEGIN:STANDARD
TZNAME:EST
DTSTART:20251102T020000
TZOFFSETFROM:-0400
TZOFFSETTO:-0500
RDATE:20261101T020000
END:STANDARD
BEGIN:DAYLIGHT
TZNAME:EDT
DTSTART:20250309T020000
TZOFFSETFROM:-0500
TZOFFSETTO:-0400
RDATE:20260308T020000
RDATE:20270314T020000
END:DAYLIGHT
END:VTIMEZONE
BEGIN:VEVENT
UID:54932c05-7f95-4a05-bdd0-6b709b02c705
DTSTAMP:20260421T042735Z
DESCRIPTION:
DTSTART;TZID=America/New_York:20251121T100000
DTEND;TZID=America/New_York:20251121T120000
LOCATION:No Registration Required
SUMMARY:Sculpture Studio (IN CENTER)
END:VEVENT
END:VCALENDAR
