BEGIN:VCALENDAR
VERSION:2.0
PRODID:-//rssny.org//NONSGML kigkonsult.se iCalcreator 2.30.10//
CALSCALE:GREGORIAN
METHOD:PUBLISH
UID:204ea511-fbba-4ad5-9d9b-5c10b9479bc1
X-WR-CALDESC:Register Here if Attending Online - https://rssny.org/class-fo
 rms/chair-yoga-with-anita.html
X-WR-RELCALID:b96b92bfc418c4d4c14b5fcf44eee931
X-WR-TIMEZONE:America/New_York
BEGIN:VTIMEZONE
TZID:America/New_York
BEGIN:STANDARD
TZNAME:EST
DTSTART:20251102T020000
TZOFFSETFROM:-0400
TZOFFSETTO:-0500
RDATE:20261101T020000
END:STANDARD
BEGIN:DAYLIGHT
TZNAME:EDT
DTSTART:20250309T020000
TZOFFSETFROM:-0500
TZOFFSETTO:-0400
RDATE:20260308T020000
RDATE:20270314T020000
END:DAYLIGHT
END:VTIMEZONE
BEGIN:VEVENT
UID:ce79d188-2f96-49cc-a42c-766848f23812
DTSTAMP:20260421T043932Z
DESCRIPTION:Register Here if Attending Online - https://rssny.org/class-for
 ms/chair-yoga-with-anita.html
DTSTART;TZID=America/New_York:20251120T094500
DTEND;TZID=America/New_York:20251120T104500
LOCATION:https://rssny.org/class-forms/chair-yoga-with-anita.html
SUMMARY:Chair Yoga with Anita: Root to Rise and Resiliance (HYBRID) CANCELE
 D
END:VEVENT
END:VCALENDAR
