BEGIN:VCALENDAR
VERSION:2.0
PRODID:-//rssny.org//NONSGML kigkonsult.se iCalcreator 2.30.10//
CALSCALE:GREGORIAN
METHOD:PUBLISH
UID:4135be93-cd2c-4675-9d55-f0a91516c73f
X-WR-CALDESC:
X-WR-RELCALID:7ce2b6c223c44c67e724a1b578a46211
X-WR-TIMEZONE:America/New_York
BEGIN:VTIMEZONE
TZID:America/New_York
BEGIN:STANDARD
TZNAME:EST
DTSTART:20251102T020000
TZOFFSETFROM:-0400
TZOFFSETTO:-0500
RDATE:20261101T020000
END:STANDARD
BEGIN:DAYLIGHT
TZNAME:EDT
DTSTART:20250309T020000
TZOFFSETFROM:-0500
TZOFFSETTO:-0400
RDATE:20260308T020000
RDATE:20270314T020000
END:DAYLIGHT
END:VTIMEZONE
BEGIN:VEVENT
UID:96bdbb9c-07f9-4b33-b252-54a197f4f55b
DTSTAMP:20260421T042708Z
DESCRIPTION:
DTSTART;TZID=America/New_York:20251110T060000
DTEND;TZID=America/New_York:20251110T060001
LOCATION:
SUMMARY:VETERANS DAY CELEBRATIONS
END:VEVENT
END:VCALENDAR
