BEGIN:VCALENDAR
VERSION:2.0
PRODID:-//rssny.org//NONSGML kigkonsult.se iCalcreator 2.30.10//
CALSCALE:GREGORIAN
METHOD:PUBLISH
UID:122e05e5-e5dc-483e-87eb-43ea16f699ed
X-WR-CALDESC:Join us for a moving presentation with Vietnam War Veteran Dom
 ingo A. Rodriguez\, who will share his experiences serving as a medic duri
 ng the war. Following his talk\, enjoy a special musical recital by Mr. Ro
 driguez and his son\, Moses Jethro Rodriguez\, RSS Director of Technology 
 & Digital Engagement —a touching tribute to service\, family\, and resilie
 nce.
X-WR-RELCALID:5ca0978e3c27cd1c1f988fd8f6a16e06
X-WR-TIMEZONE:America/New_York
BEGIN:VTIMEZONE
TZID:America/New_York
BEGIN:STANDARD
TZNAME:EST
DTSTART:20251102T020000
TZOFFSETFROM:-0400
TZOFFSETTO:-0500
RDATE:20261101T020000
END:STANDARD
BEGIN:DAYLIGHT
TZNAME:EDT
DTSTART:20250309T020000
TZOFFSETFROM:-0500
TZOFFSETTO:-0400
RDATE:20260308T020000
RDATE:20270314T020000
END:DAYLIGHT
END:VTIMEZONE
BEGIN:VEVENT
UID:eeef24f3-f5e6-43d9-ad01-d8cc91f76e3c
DTSTAMP:20260421T042831Z
DESCRIPTION:Join us for a moving presentation with Vietnam War Veteran Domi
 ngo A. Rodriguez\, who will share his experiences serving as a medic durin
 g the war. Following his talk\, enjoy a special musical recital by Mr. Rod
 riguez and his son\, Moses Jethro Rodriguez\, RSS Director of Technology &
  Digital Engagement —a touching tribute to service\, family\, and resilien
 ce.
DTSTART;TZID=America/New_York:20251110T130000
DTEND;TZID=America/New_York:20251110T140000
LOCATION:
SUMMARY:Veteran's Day Remembrance (Hybrid)
END:VEVENT
END:VCALENDAR
