BEGIN:VCALENDAR
VERSION:2.0
PRODID:-//rssny.org//NONSGML kigkonsult.se iCalcreator 2.30.10//
CALSCALE:GREGORIAN
METHOD:PUBLISH
UID:a21af6f1-7ebc-4c18-b13b-72f9042ee16b
X-WR-CALDESC:Anna Netrebko\, Russian and Austrian operatic soprano\nhttps:/
 /en.wikipedia.org/wiki/Anna_Netrebko
X-WR-RELCALID:933e8decf5cb41905a5be41f879c34e8
X-WR-TIMEZONE:America/New_York
BEGIN:VTIMEZONE
TZID:America/New_York
BEGIN:STANDARD
TZNAME:EST
DTSTART:20241103T020000
TZOFFSETFROM:-0400
TZOFFSETTO:-0500
RDATE:20251102T020000
RDATE:20261101T020000
END:STANDARD
BEGIN:DAYLIGHT
TZNAME:EDT
DTSTART:20250309T020000
TZOFFSETFROM:-0500
TZOFFSETTO:-0400
RDATE:20260308T020000
RDATE:20270314T020000
END:DAYLIGHT
END:VTIMEZONE
BEGIN:VEVENT
UID:1fedb7f3-5a0b-4f90-af64-7af95053be84
DTSTAMP:20260421T043131Z
DESCRIPTION:Anna Netrebko\, Russian and Austrian operatic soprano\nhttps://
 en.wikipedia.org/wiki/Anna_Netrebko
DTSTART;TZID=America/New_York:20251102T160000
DTEND;TZID=America/New_York:20251102T171500
LOCATION:https://rssny.org/music_appreciation.html
SUMMARY:Music Appreciation with Diana: Anna Netrebko (Online)
END:VEVENT
END:VCALENDAR
