BEGIN:VCALENDAR
VERSION:2.0
PRODID:-//rssny.org//NONSGML kigkonsult.se iCalcreator 2.30.10//
CALSCALE:GREGORIAN
METHOD:PUBLISH
UID:2fdc98d4-d590-48d2-9f6a-52567da32690
X-WR-CALDESC:
X-WR-RELCALID:5b88ef58e2007c5c45dd5a300e4f6a79
X-WR-TIMEZONE:America/New_York
BEGIN:VTIMEZONE
TZID:America/New_York
BEGIN:STANDARD
TZNAME:EST
DTSTART:20241103T020000
TZOFFSETFROM:-0400
TZOFFSETTO:-0500
RDATE:20251102T020000
RDATE:20261101T020000
END:STANDARD
BEGIN:DAYLIGHT
TZNAME:EDT
DTSTART:20250309T020000
TZOFFSETFROM:-0500
TZOFFSETTO:-0400
RDATE:20260308T020000
RDATE:20270314T020000
END:DAYLIGHT
END:VTIMEZONE
BEGIN:VEVENT
UID:2b879fdc-a210-48f2-9329-13d7020e3e2b
DTSTAMP:20260421T061028Z
DESCRIPTION:
DTSTART;TZID=America/New_York:20251030T153000
DTEND;TZID=America/New_York:20251030T163000
LOCATION:
SUMMARY:test
END:VEVENT
END:VCALENDAR
