BEGIN:VCALENDAR
VERSION:2.0
PRODID:-//rssny.org//NONSGML kigkonsult.se iCalcreator 2.30.10//
CALSCALE:GREGORIAN
METHOD:PUBLISH
UID:1a034bfc-37fb-4e43-bbbd-844455ff4bbd
X-WR-CALDESC:Register Here if Attending Online - https://rssny.org/class-fo
 rms/chair-yoga-with-anita.html
X-WR-RELCALID:95fb16883747ffa87c7225f6fd727575
X-WR-TIMEZONE:America/New_York
BEGIN:VTIMEZONE
TZID:America/New_York
BEGIN:STANDARD
TZNAME:EST
DTSTART:20241103T020000
TZOFFSETFROM:-0400
TZOFFSETTO:-0500
RDATE:20251102T020000
RDATE:20261101T020000
END:STANDARD
BEGIN:DAYLIGHT
TZNAME:EDT
DTSTART:20250309T020000
TZOFFSETFROM:-0500
TZOFFSETTO:-0400
RDATE:20260308T020000
RDATE:20270314T020000
END:DAYLIGHT
END:VTIMEZONE
BEGIN:VEVENT
UID:a839b77d-c46f-41ae-b3ec-f66ab9383289
DTSTAMP:20260421T061809Z
DESCRIPTION:Register Here if Attending Online - https://rssny.org/class-for
 ms/chair-yoga-with-anita.html
DTSTART;TZID=America/New_York:20251030T094500
DTEND;TZID=America/New_York:20251030T104500
LOCATION:https://rssny.org/class-forms/chair-yoga-with-anita.html
SUMMARY:Chair Yoga with Anita: Root to Rise and Resiliance (HYBRID)
END:VEVENT
END:VCALENDAR
