BEGIN:VCALENDAR
VERSION:2.0
PRODID:-//rssny.org//NONSGML kigkonsult.se iCalcreator 2.30.10//
CALSCALE:GREGORIAN
METHOD:PUBLISH
UID:ad2db7bf-4623-4e68-b917-7f15de24e3ff
X-WR-CALDESC:
X-WR-RELCALID:79c5fed8804319ac2f8fef6cd73474d4
X-WR-TIMEZONE:America/New_York
BEGIN:VTIMEZONE
TZID:America/New_York
BEGIN:STANDARD
TZNAME:EST
DTSTART:20241103T020000
TZOFFSETFROM:-0400
TZOFFSETTO:-0500
RDATE:20251102T020000
RDATE:20261101T020000
END:STANDARD
BEGIN:DAYLIGHT
TZNAME:EDT
DTSTART:20250309T020000
TZOFFSETFROM:-0500
TZOFFSETTO:-0400
RDATE:20260308T020000
RDATE:20270314T020000
END:DAYLIGHT
END:VTIMEZONE
BEGIN:VEVENT
UID:36eff133-8785-489d-8bc7-740e43af12d7
DTSTAMP:20260421T061625Z
DESCRIPTION:
DTSTART;TZID=America/New_York:20251029T140000
DTEND;TZID=America/New_York:20251029T160000
LOCATION:
SUMMARY:Movies In Center: A Million Miles Away
END:VEVENT
END:VCALENDAR
