BEGIN:VCALENDAR
VERSION:2.0
PRODID:-//rssny.org//NONSGML kigkonsult.se iCalcreator 2.30.10//
CALSCALE:GREGORIAN
METHOD:PUBLISH
UID:37cf39f7-ed1f-4567-bfc4-a73abaa98e87
X-WR-CALDESC:Join us for a fun time and try out tap dancing\n\nNO prior dan
 ce experience or materials are needed.
X-WR-RELCALID:5c303a38f5059eef89245913a2bc1cb8
X-WR-TIMEZONE:America/New_York
BEGIN:VTIMEZONE
TZID:America/New_York
BEGIN:STANDARD
TZNAME:EST
DTSTART:20241103T020000
TZOFFSETFROM:-0400
TZOFFSETTO:-0500
RDATE:20251102T020000
RDATE:20261101T020000
END:STANDARD
BEGIN:DAYLIGHT
TZNAME:EDT
DTSTART:20250309T020000
TZOFFSETFROM:-0500
TZOFFSETTO:-0400
RDATE:20260308T020000
RDATE:20270314T020000
END:DAYLIGHT
END:VTIMEZONE
BEGIN:VEVENT
UID:fb96d6ad-5491-4ab7-ace2-c3cab645a5ff
DTSTAMP:20260421T061257Z
DESCRIPTION:Join us for a fun time and try out tap dancing\n\nNO prior danc
 e experience or materials are needed.
DTSTART;TZID=America/New_York:20251027T110000
DTEND;TZID=America/New_York:20251027T120000
LOCATION:
SUMMARY:Tap Dancing with Maria (IN CENTER)
END:VEVENT
END:VCALENDAR
