BEGIN:VCALENDAR
VERSION:2.0
PRODID:-//rssny.org//NONSGML kigkonsult.se iCalcreator 2.30.10//
CALSCALE:GREGORIAN
METHOD:PUBLISH
UID:2158d27f-0567-472b-811d-2a16c309120c
X-WR-CALDESC:To register: https://rssny.org/class-forms/ny-presbyterian.htm
 l\n\nCome learn about:\n- How oral health & nutrition are related\n- What 
 you can do to maximize oral health as you age\n- How to modify food if you
  are having trouble chewing\n\nPresented by: Art Gillman\, MS\, RDN\, CDN\
 , Registered Dietitian Nutritionist at New York-Presbyterian
X-WR-RELCALID:e1008c25113adc9109de4f81e5147d4d
X-WR-TIMEZONE:America/New_York
BEGIN:VTIMEZONE
TZID:America/New_York
BEGIN:STANDARD
TZNAME:EST
DTSTART:20241103T020000
TZOFFSETFROM:-0400
TZOFFSETTO:-0500
RDATE:20251102T020000
RDATE:20261101T020000
END:STANDARD
BEGIN:DAYLIGHT
TZNAME:EDT
DTSTART:20250309T020000
TZOFFSETFROM:-0500
TZOFFSETTO:-0400
RDATE:20260308T020000
RDATE:20270314T020000
END:DAYLIGHT
END:VTIMEZONE
BEGIN:VEVENT
UID:b0ad6769-e4c3-4d98-9f52-0d49cbf02c84
DTSTAMP:20260421T061753Z
DESCRIPTION:To register: https://rssny.org/class-forms/ny-presbyterian.html
 \n\nCome learn about:\n- How oral health & nutrition are related\n- What y
 ou can do to maximize oral health as you age\n- How to modify food if you 
 are having trouble chewing\n\nPresented by: Art Gillman\, MS\, RDN\, CDN\,
  Registered Dietitian Nutritionist at New York-Presbyterian
DTSTART;TZID=America/New_York:20251024T131500
DTEND;TZID=America/New_York:20251024T140000
LOCATION:https://rssny.org/class-forms/ny-presbyterian.html
SUMMARY:NY Presbyterian Nutrition: Nutrition and Oral Health  (Hybrid)
END:VEVENT
END:VCALENDAR
