BEGIN:VCALENDAR
VERSION:2.0
PRODID:-//rssny.org//NONSGML kigkonsult.se iCalcreator 2.30.10//
CALSCALE:GREGORIAN
METHOD:PUBLISH
UID:16fe91d8-bb97-4f10-9c98-9cafa58ef629
X-WR-CALDESC:Weekly non-competitive bridge game
X-WR-RELCALID:0d60f5fe712089216ead2676889d7a17
X-WR-TIMEZONE:America/New_York
BEGIN:VTIMEZONE
TZID:America/New_York
BEGIN:STANDARD
TZNAME:EST
DTSTART:20241103T020000
TZOFFSETFROM:-0400
TZOFFSETTO:-0500
RDATE:20251102T020000
RDATE:20261101T020000
END:STANDARD
BEGIN:DAYLIGHT
TZNAME:EDT
DTSTART:20250309T020000
TZOFFSETFROM:-0500
TZOFFSETTO:-0400
RDATE:20260308T020000
RDATE:20270314T020000
END:DAYLIGHT
END:VTIMEZONE
BEGIN:VEVENT
UID:66df41e7-f35b-45a6-b31e-4960a6e6c616
DTSTAMP:20260421T061400Z
DESCRIPTION:Weekly non-competitive bridge game
DTSTART;TZID=America/New_York:20251024T131500
DTEND;TZID=America/New_York:20251024T163000
LOCATION:
SUMMARY:Leisure Games Bridge (In Center)
END:VEVENT
END:VCALENDAR
