BEGIN:VCALENDAR
VERSION:2.0
PRODID:-//rssny.org//NONSGML kigkonsult.se iCalcreator 2.30.10//
CALSCALE:GREGORIAN
METHOD:PUBLISH
UID:5a6eaf86-f45e-4ad7-a531-c517f9bff9c2
X-WR-CALDESC:
X-WR-RELCALID:a8aba9c8b6e1ee05a19ebf58a43e6aec
X-WR-TIMEZONE:America/New_York
BEGIN:VTIMEZONE
TZID:America/New_York
BEGIN:STANDARD
TZNAME:EST
DTSTART:20241103T020000
TZOFFSETFROM:-0400
TZOFFSETTO:-0500
RDATE:20251102T020000
RDATE:20261101T020000
END:STANDARD
BEGIN:DAYLIGHT
TZNAME:EDT
DTSTART:20250309T020000
TZOFFSETFROM:-0500
TZOFFSETTO:-0400
RDATE:20260308T020000
RDATE:20270314T020000
END:DAYLIGHT
END:VTIMEZONE
BEGIN:VEVENT
UID:5891d7a8-2a4f-4396-b774-cf5577d1f293
DTSTAMP:20260421T061036Z
DESCRIPTION:
DTSTART;TZID=America/New_York:20251023T090000
DTEND;TZID=America/New_York:20251023T150000
LOCATION:
SUMMARY:VISIONS Adaptive Program (Invitation Only)
END:VEVENT
END:VCALENDAR
