BEGIN:VCALENDAR
VERSION:2.0
PRODID:-//rssny.org//NONSGML kigkonsult.se iCalcreator 2.30.10//
CALSCALE:GREGORIAN
METHOD:PUBLISH
UID:08da1e81-301d-4851-88a8-331921057546
X-WR-CALDESC:
X-WR-RELCALID:38d5e5ec4d22710269f3b54d1d5adb4c
X-WR-TIMEZONE:America/New_York
BEGIN:VTIMEZONE
TZID:America/New_York
BEGIN:STANDARD
TZNAME:EST
DTSTART:20241103T020000
TZOFFSETFROM:-0400
TZOFFSETTO:-0500
RDATE:20251102T020000
RDATE:20261101T020000
END:STANDARD
BEGIN:DAYLIGHT
TZNAME:EDT
DTSTART:20250309T020000
TZOFFSETFROM:-0500
TZOFFSETTO:-0400
RDATE:20260308T020000
RDATE:20270314T020000
END:DAYLIGHT
END:VTIMEZONE
BEGIN:VEVENT
UID:78ea3dc7-4185-4cec-9aa9-a0349f51e3c9
DTSTAMP:20260421T061442Z
DESCRIPTION:
DTSTART;TZID=America/New_York:20251022T140000
DTEND;TZID=America/New_York:20251022T160000
LOCATION:
SUMMARY:Movies In Center: Cassandro
END:VEVENT
END:VCALENDAR
