BEGIN:VCALENDAR
VERSION:2.0
PRODID:-//rssny.org//NONSGML kigkonsult.se iCalcreator 2.30.10//
CALSCALE:GREGORIAN
METHOD:PUBLISH
UID:7ef667f9-e1e0-4d1c-9d8f-560dd7b73bab
X-WR-CALDESC:Join us for breakfast at the Center!
X-WR-RELCALID:ed170d763a35bf9be54b42b89f14bb7a
X-WR-TIMEZONE:America/New_York
BEGIN:VTIMEZONE
TZID:America/New_York
BEGIN:STANDARD
TZNAME:EST
DTSTART:20241103T020000
TZOFFSETFROM:-0400
TZOFFSETTO:-0500
RDATE:20251102T020000
RDATE:20261101T020000
END:STANDARD
BEGIN:DAYLIGHT
TZNAME:EDT
DTSTART:20250309T020000
TZOFFSETFROM:-0500
TZOFFSETTO:-0400
RDATE:20260308T020000
RDATE:20270314T020000
END:DAYLIGHT
END:VTIMEZONE
BEGIN:VEVENT
UID:b1c87c09-9b3d-4fe0-b4d5-1645d9b93708
DTSTAMP:20260421T061431Z
DESCRIPTION:Join us for breakfast at the Center!
DTSTART;TZID=America/New_York:20251022T090000
DTEND;TZID=America/New_York:20251022T100000
LOCATION:
SUMMARY:Breakfast Club (In Center)
END:VEVENT
END:VCALENDAR
