BEGIN:VCALENDAR
VERSION:2.0
PRODID:-//rssny.org//NONSGML kigkonsult.se iCalcreator 2.30.10//
CALSCALE:GREGORIAN
METHOD:PUBLISH
UID:a5659dc1-37e4-4268-b3d3-ce8644f21dab
X-WR-CALDESC:This group\, led by occupational therapy students\, uses paint
 ing as a focused therapeutic activity to strengthen cognitive skills such 
 as attention\, memory\, visual processing\, sequencing\, and planning. Par
 ticipants will paint a festive still life featuring apples\, leaves\, and 
 pumpkins—capturing the beauty of autumn while engaging the mind. No art ex
 perience is necessary—just a willingness to pick up a brush and engage you
 r mind.
X-WR-RELCALID:20ac50d85b448229ac872bb850f41e1c
X-WR-TIMEZONE:America/New_York
BEGIN:VTIMEZONE
TZID:America/New_York
BEGIN:STANDARD
TZNAME:EST
DTSTART:20241103T020000
TZOFFSETFROM:-0400
TZOFFSETTO:-0500
RDATE:20251102T020000
RDATE:20261101T020000
END:STANDARD
BEGIN:DAYLIGHT
TZNAME:EDT
DTSTART:20250309T020000
TZOFFSETFROM:-0500
TZOFFSETTO:-0400
RDATE:20260308T020000
RDATE:20270314T020000
END:DAYLIGHT
END:VTIMEZONE
BEGIN:VEVENT
UID:aa526980-fb69-4eb0-b093-06870b6490a5
DTSTAMP:20260421T061830Z
DESCRIPTION:This group\, led by occupational therapy students\, uses painti
 ng as a focused therapeutic activity to strengthen cognitive skills such a
 s attention\, memory\, visual processing\, sequencing\, and planning. Part
 icipants will paint a festive still life featuring apples\, leaves\, and p
 umpkins—capturing the beauty of autumn while engaging the mind. No art exp
 erience is necessary—just a willingness to pick up a brush and engage your
  mind.
DTSTART;TZID=America/New_York:20251017T130000
DTEND;TZID=America/New_York:20251017T140000
LOCATION:
SUMMARY:Good Mental Health Through the Arts. Brush up your brain with Colum
 bia OT Students (Hybrid)
END:VEVENT
END:VCALENDAR
