BEGIN:VCALENDAR
VERSION:2.0
PRODID:-//rssny.org//NONSGML kigkonsult.se iCalcreator 2.30.10//
CALSCALE:GREGORIAN
METHOD:PUBLISH
UID:4f461639-0a0f-4de1-b835-0e3596686f5a
X-WR-CALDESC:Please click the link below to join the webinar on October 15t
 h:\n\nhttps://us02web.zoom.us/j/85170249944?pwd=2fEUQZxszUV7qt2pbu11PRWJ5q
 4Oba.1\nPasscode:854922
X-WR-RELCALID:6c531b8948ff5cbafa2b65e2658e6e25
X-WR-TIMEZONE:America/New_York
BEGIN:VTIMEZONE
TZID:America/New_York
BEGIN:STANDARD
TZNAME:EST
DTSTART:20241103T020000
TZOFFSETFROM:-0400
TZOFFSETTO:-0500
RDATE:20251102T020000
RDATE:20261101T020000
END:STANDARD
BEGIN:DAYLIGHT
TZNAME:EDT
DTSTART:20250309T020000
TZOFFSETFROM:-0500
TZOFFSETTO:-0400
RDATE:20260308T020000
RDATE:20270314T020000
END:DAYLIGHT
END:VTIMEZONE
BEGIN:VEVENT
UID:11d1ccc0-a1cd-4668-89a1-80467ee017ad
DTSTAMP:20260421T061830Z
DESCRIPTION:Please click the link below to join the webinar on October 15th
 :\n\nhttps://us02web.zoom.us/j/85170249944?pwd=2fEUQZxszUV7qt2pbu11PRWJ5q4
 Oba.1\nPasscode:854922
DTSTART;TZID=America/New_York:20251015T103000
DTEND;TZID=America/New_York:20251015T113000
LOCATION:
SUMMARY:Art Deco Society of New York's That’s Entertainment: Theaters and C
 inemas (Online - This is not an RSS event)
END:VEVENT
END:VCALENDAR
