BEGIN:VCALENDAR
VERSION:2.0
PRODID:-//rssny.org//NONSGML kigkonsult.se iCalcreator 2.30.10//
CALSCALE:GREGORIAN
METHOD:PUBLISH
UID:05b1b9f8-2d82-4057-80e5-c6dbe05e0cb0
X-WR-CALDESC:
X-WR-RELCALID:a8a95dfca4d7258e871d644917bafefc
X-WR-TIMEZONE:America/New_York
BEGIN:VTIMEZONE
TZID:America/New_York
BEGIN:STANDARD
TZNAME:EST
DTSTART:20241103T020000
TZOFFSETFROM:-0400
TZOFFSETTO:-0500
RDATE:20251102T020000
RDATE:20261101T020000
END:STANDARD
BEGIN:DAYLIGHT
TZNAME:EDT
DTSTART:20250309T020000
TZOFFSETFROM:-0500
TZOFFSETTO:-0400
RDATE:20260308T020000
RDATE:20270314T020000
END:DAYLIGHT
END:VTIMEZONE
BEGIN:VEVENT
UID:1b98ac6c-e52f-4e7f-8f82-d7f71ce8b632
DTSTAMP:20260421T061120Z
DESCRIPTION:
DTSTART;TZID=America/New_York:20251014T150000
DTEND;TZID=America/New_York:20251014T160000
LOCATION:
SUMMARY:Lotería (Bingo) (In Center)
END:VEVENT
END:VCALENDAR
