BEGIN:VCALENDAR
VERSION:2.0
PRODID:-//rssny.org//NONSGML kigkonsult.se iCalcreator 2.30.10//
CALSCALE:GREGORIAN
METHOD:PUBLISH
UID:51694758-9314-4b8d-8a7f-40beabaf1442
X-WR-CALDESC:
X-WR-RELCALID:9afee42e487a486719ac12afe29616cd
X-WR-TIMEZONE:America/New_York
BEGIN:VTIMEZONE
TZID:America/New_York
BEGIN:STANDARD
TZNAME:EST
DTSTART:20241103T020000
TZOFFSETFROM:-0400
TZOFFSETTO:-0500
RDATE:20251102T020000
RDATE:20261101T020000
END:STANDARD
BEGIN:DAYLIGHT
TZNAME:EDT
DTSTART:20250309T020000
TZOFFSETFROM:-0500
TZOFFSETTO:-0400
RDATE:20260308T020000
RDATE:20270314T020000
END:DAYLIGHT
END:VTIMEZONE
BEGIN:VEVENT
UID:7712976a-c748-4c37-80a3-0431456ecb6b
DTSTAMP:20260421T061830Z
DESCRIPTION:
DTSTART;TZID=America/New_York:20251008T143000
DTEND;TZID=America/New_York:20251008T160000
LOCATION:
SUMMARY:Movies In Center: Dolores (2017) – About Dolores Huerta\, labor lea
 der and activist
END:VEVENT
END:VCALENDAR
