BEGIN:VCALENDAR
VERSION:2.0
PRODID:-//rssny.org//NONSGML kigkonsult.se iCalcreator 2.30.10//
CALSCALE:GREGORIAN
METHOD:PUBLISH
UID:cdbbf221-02f6-4d5c-9776-5510fba79e01
X-WR-CALDESC:Register here - https://airtable.com/appXGCAC8Qle5hwrm/shrO59M
 UISZyYYJ7D
X-WR-RELCALID:07c1818df639e4e7e628e78d78838bc0
X-WR-TIMEZONE:America/New_York
BEGIN:VTIMEZONE
TZID:America/New_York
BEGIN:STANDARD
TZNAME:EST
DTSTART:20241103T020000
TZOFFSETFROM:-0400
TZOFFSETTO:-0500
RDATE:20251102T020000
RDATE:20261101T020000
END:STANDARD
BEGIN:DAYLIGHT
TZNAME:EDT
DTSTART:20250309T020000
TZOFFSETFROM:-0500
TZOFFSETTO:-0400
RDATE:20260308T020000
RDATE:20270314T020000
END:DAYLIGHT
END:VTIMEZONE
BEGIN:VEVENT
UID:14e74909-2a76-4245-967a-14c437b8c414
DTSTAMP:20260421T061554Z
DESCRIPTION:Register here - https://airtable.com/appXGCAC8Qle5hwrm/shrO59MU
 ISZyYYJ7D
DTSTART;TZID=America/New_York:20251007T120000
DTEND;TZID=America/New_York:20251007T130000
LOCATION:https://airtable.com/appXGCAC8Qle5hwrm/shrO59MUISZyYYJ7D
SUMMARY:Concerts in Motion: Songbook Tuesdays (This is not an RSS event)
END:VEVENT
END:VCALENDAR
