BEGIN:VCALENDAR
VERSION:2.0
PRODID:-//rssny.org//NONSGML kigkonsult.se iCalcreator 2.30.10//
CALSCALE:GREGORIAN
METHOD:PUBLISH
UID:e519ac89-84f8-47ba-8bb9-46ce48a6fe73
X-WR-CALDESC:Filling in for Donald\, until his return to RSS\, is Social Wo
 rk Intern\, Cynthia Caceres.
X-WR-RELCALID:b33d9e2be6c8c29d48497e881c21f488
X-WR-TIMEZONE:America/New_York
BEGIN:VTIMEZONE
TZID:America/New_York
BEGIN:STANDARD
TZNAME:EST
DTSTART:20241103T020000
TZOFFSETFROM:-0400
TZOFFSETTO:-0500
RDATE:20251102T020000
RDATE:20261101T020000
END:STANDARD
BEGIN:DAYLIGHT
TZNAME:EDT
DTSTART:20250309T020000
TZOFFSETFROM:-0500
TZOFFSETTO:-0400
RDATE:20260308T020000
RDATE:20270314T020000
END:DAYLIGHT
END:VTIMEZONE
BEGIN:VEVENT
UID:b53d4969-767f-4a98-83a5-cb6fd3f9c8fa
DTSTAMP:20260421T061555Z
DESCRIPTION:Filling in for Donald\, until his return to RSS\, is Social Wor
 k Intern\, Cynthia Caceres.
DTSTART;TZID=America/New_York:20251007T100000
DTEND;TZID=America/New_York:20251007T110000
LOCATION:
SUMMARY:Memoir Writing with Donald (In Center)
END:VEVENT
END:VCALENDAR
