BEGIN:VCALENDAR
VERSION:2.0
PRODID:-//rssny.org//NONSGML kigkonsult.se iCalcreator 2.30.10//
CALSCALE:GREGORIAN
METHOD:PUBLISH
UID:e7b030d6-01c2-4c5f-8587-c4b8562f76af
X-WR-CALDESC:
X-WR-RELCALID:1390485f0e704db9e78868e55e4f514f
X-WR-TIMEZONE:America/New_York
BEGIN:VTIMEZONE
TZID:America/New_York
BEGIN:STANDARD
TZNAME:EST
DTSTART:20241103T020000
TZOFFSETFROM:-0400
TZOFFSETTO:-0500
RDATE:20251102T020000
RDATE:20261101T020000
END:STANDARD
BEGIN:DAYLIGHT
TZNAME:EDT
DTSTART:20250309T020000
TZOFFSETFROM:-0500
TZOFFSETTO:-0400
RDATE:20260308T020000
RDATE:20270314T020000
END:DAYLIGHT
END:VTIMEZONE
BEGIN:VEVENT
UID:6c86bb78-29a4-45be-b53c-4b2534065578
DTSTAMP:20260421T060204Z
DESCRIPTION:
DTSTART;TZID=America/New_York:20251006T060000
DTEND;TZID=America/New_York:20251006T060001
LOCATION:
SUMMARY:Center Closed - Classes are Online Only
END:VEVENT
END:VCALENDAR
