BEGIN:VCALENDAR
VERSION:2.0
PRODID:-//rssny.org//NONSGML kigkonsult.se iCalcreator 2.30.10//
CALSCALE:GREGORIAN
METHOD:PUBLISH
UID:c4f33ae5-5440-4740-9059-159cd3ba768f
X-WR-CALDESC:Mario Lanza\, American tenor and actor.\nhttps://en.wikipedia.
 org/wiki/Mario_Lanza
X-WR-RELCALID:d1b8c68a267335d4db115cde5801d91c
X-WR-TIMEZONE:America/New_York
BEGIN:VTIMEZONE
TZID:America/New_York
BEGIN:STANDARD
TZNAME:EST
DTSTART:20241103T020000
TZOFFSETFROM:-0400
TZOFFSETTO:-0500
RDATE:20251102T020000
RDATE:20261101T020000
END:STANDARD
BEGIN:DAYLIGHT
TZNAME:EDT
DTSTART:20250309T020000
TZOFFSETFROM:-0500
TZOFFSETTO:-0400
RDATE:20260308T020000
RDATE:20270314T020000
END:DAYLIGHT
END:VTIMEZONE
BEGIN:VEVENT
UID:26920e8c-1cd7-451d-b6f8-f893ceaecd65
DTSTAMP:20260421T061553Z
DESCRIPTION:Mario Lanza\, American tenor and actor.\nhttps://en.wikipedia.o
 rg/wiki/Mario_Lanza
DTSTART;TZID=America/New_York:20251005T160000
DTEND;TZID=America/New_York:20251005T171500
LOCATION:https://rssny.org/music_appreciation.html
SUMMARY:Music Appreciation with Diana: Mario Lanza Sisters (Online)
END:VEVENT
END:VCALENDAR
