BEGIN:VCALENDAR
VERSION:2.0
PRODID:-//rssny.org//NONSGML kigkonsult.se iCalcreator 2.30.10//
CALSCALE:GREGORIAN
METHOD:PUBLISH
UID:fd690fbd-3966-4120-bbc2-74df23d6db9a
X-WR-CALDESC:
X-WR-RELCALID:7a7991e24ce1042194cdddd202172fe8
X-WR-TIMEZONE:America/New_York
BEGIN:VTIMEZONE
TZID:America/New_York
BEGIN:STANDARD
TZNAME:EST
DTSTART:20241103T020000
TZOFFSETFROM:-0400
TZOFFSETTO:-0500
RDATE:20251102T020000
RDATE:20261101T020000
END:STANDARD
BEGIN:DAYLIGHT
TZNAME:EDT
DTSTART:20250309T020000
TZOFFSETFROM:-0500
TZOFFSETTO:-0400
RDATE:20260308T020000
RDATE:20270314T020000
END:DAYLIGHT
END:VTIMEZONE
BEGIN:VEVENT
UID:448c8e02-fcd1-41f9-ac60-1b27e048d070
DTSTAMP:20260421T075159Z
DESCRIPTION:
DTSTART;TZID=America/New_York:20250930T120000
DTEND;TZID=America/New_York:20250930T130000
LOCATION:
SUMMARY:Lunch In Center
END:VEVENT
END:VCALENDAR
