BEGIN:VCALENDAR
VERSION:2.0
PRODID:-//rssny.org//NONSGML kigkonsult.se iCalcreator 2.30.10//
CALSCALE:GREGORIAN
METHOD:PUBLISH
UID:a1037b14-c236-41c6-9bf1-650a912de814
X-WR-CALDESC:\n
X-WR-RELCALID:6520e3e2bbf14ac38ca613f380674f8c
X-WR-TIMEZONE:America/New_York
BEGIN:VTIMEZONE
TZID:America/New_York
BEGIN:STANDARD
TZNAME:EST
DTSTART:20241103T020000
TZOFFSETFROM:-0400
TZOFFSETTO:-0500
RDATE:20251102T020000
RDATE:20261101T020000
END:STANDARD
BEGIN:DAYLIGHT
TZNAME:EDT
DTSTART:20250309T020000
TZOFFSETFROM:-0500
TZOFFSETTO:-0400
RDATE:20260308T020000
RDATE:20270314T020000
END:DAYLIGHT
END:VTIMEZONE
BEGIN:VEVENT
UID:0e828b04-0a14-4955-b371-d91758493637
DTSTAMP:20260421T075340Z
DESCRIPTION:\n
DTSTART;TZID=America/New_York:20250930T100000
DTEND;TZID=America/New_York:20250930T110000
LOCATION:
SUMMARY:Blood Pressure Testing (In Center
END:VEVENT
END:VCALENDAR
