BEGIN:VCALENDAR
VERSION:2.0
PRODID:-//rssny.org//NONSGML kigkonsult.se iCalcreator 2.30.10//
CALSCALE:GREGORIAN
METHOD:PUBLISH
UID:6894692b-714d-4668-ace2-2631f29ce62d
X-WR-CALDESC:
X-WR-RELCALID:95b6cc41df124a1426ceb16d6f9a8984
X-WR-TIMEZONE:America/New_York
BEGIN:VTIMEZONE
TZID:America/New_York
BEGIN:STANDARD
TZNAME:EST
DTSTART:20241103T020000
TZOFFSETFROM:-0400
TZOFFSETTO:-0500
RDATE:20251102T020000
RDATE:20261101T020000
END:STANDARD
BEGIN:DAYLIGHT
TZNAME:EDT
DTSTART:20250309T020000
TZOFFSETFROM:-0500
TZOFFSETTO:-0400
RDATE:20260308T020000
RDATE:20270314T020000
END:DAYLIGHT
END:VTIMEZONE
BEGIN:VEVENT
UID:716e9ab0-697a-4226-bafd-457ce0139869
DTSTAMP:20260421T075229Z
DESCRIPTION:
DTSTART;TZID=America/New_York:20250926T120000
DTEND;TZID=America/New_York:20250926T130000
LOCATION:
SUMMARY:Lunch In Center
END:VEVENT
END:VCALENDAR
