BEGIN:VCALENDAR
VERSION:2.0
PRODID:-//rssny.org//NONSGML kigkonsult.se iCalcreator 2.30.10//
CALSCALE:GREGORIAN
METHOD:PUBLISH
UID:2df5f446-4cc7-47a0-bd99-62262baac157
X-WR-CALDESC:
X-WR-RELCALID:a343c415e99fbd0963a2925645d72f93
X-WR-TIMEZONE:America/New_York
BEGIN:VTIMEZONE
TZID:America/New_York
BEGIN:STANDARD
TZNAME:EST
DTSTART:20241103T020000
TZOFFSETFROM:-0400
TZOFFSETTO:-0500
RDATE:20251102T020000
RDATE:20261101T020000
END:STANDARD
BEGIN:DAYLIGHT
TZNAME:EDT
DTSTART:20250309T020000
TZOFFSETFROM:-0500
TZOFFSETTO:-0400
RDATE:20260308T020000
RDATE:20270314T020000
END:DAYLIGHT
END:VTIMEZONE
BEGIN:VEVENT
UID:fd5420df-81b1-4e9c-9793-d194c4a5e232
DTSTAMP:20260421T075828Z
DESCRIPTION:
DTSTART;TZID=America/New_York:20250924T130000
DTEND;TZID=America/New_York:20250924T150000
LOCATION:
SUMMARY:Movies In Center: 80 for Brady
END:VEVENT
END:VCALENDAR
