BEGIN:VCALENDAR
VERSION:2.0
PRODID:-//rssny.org//NONSGML kigkonsult.se iCalcreator 2.30.10//
CALSCALE:GREGORIAN
METHOD:PUBLISH
UID:c47868ab-aafe-4d31-9952-a7faa128c7d9
X-WR-CALDESC:
X-WR-RELCALID:ec2611aa1eadc026eecec34c554d7705
X-WR-TIMEZONE:America/New_York
BEGIN:VTIMEZONE
TZID:America/New_York
BEGIN:STANDARD
TZNAME:EST
DTSTART:20241103T020000
TZOFFSETFROM:-0400
TZOFFSETTO:-0500
RDATE:20251102T020000
RDATE:20261101T020000
END:STANDARD
BEGIN:DAYLIGHT
TZNAME:EDT
DTSTART:20250309T020000
TZOFFSETFROM:-0500
TZOFFSETTO:-0400
RDATE:20260308T020000
RDATE:20270314T020000
END:DAYLIGHT
END:VTIMEZONE
BEGIN:VEVENT
UID:46053805-194a-4699-b91c-41bf83337e1a
DTSTAMP:20260421T075158Z
DESCRIPTION:
DTSTART;TZID=America/New_York:20250924T120000
DTEND;TZID=America/New_York:20250924T130000
LOCATION:
SUMMARY:Lunch In Center
END:VEVENT
END:VCALENDAR
