BEGIN:VCALENDAR
VERSION:2.0
PRODID:-//rssny.org//NONSGML kigkonsult.se iCalcreator 2.30.10//
CALSCALE:GREGORIAN
METHOD:PUBLISH
UID:260ffa3a-56eb-4b43-8118-c34f450140c4
X-WR-CALDESC:
X-WR-RELCALID:9d87b1fe9f7c78d8593aedbee2d6a34d
X-WR-TIMEZONE:America/New_York
BEGIN:VTIMEZONE
TZID:America/New_York
BEGIN:STANDARD
TZNAME:EST
DTSTART:20241103T020000
TZOFFSETFROM:-0400
TZOFFSETTO:-0500
RDATE:20251102T020000
RDATE:20261101T020000
END:STANDARD
BEGIN:DAYLIGHT
TZNAME:EDT
DTSTART:20250309T020000
TZOFFSETFROM:-0500
TZOFFSETTO:-0400
RDATE:20260308T020000
RDATE:20270314T020000
END:DAYLIGHT
END:VTIMEZONE
BEGIN:VEVENT
UID:5ed761b8-8f9e-4976-87ab-d482c9dbb9e8
DTSTAMP:20260421T075100Z
DESCRIPTION:
DTSTART;TZID=America/New_York:20250923T130000
DTEND;TZID=America/New_York:20250923T140000
LOCATION:
SUMMARY:Blood Pressure Training
END:VEVENT
END:VCALENDAR
