BEGIN:VCALENDAR
VERSION:2.0
PRODID:-//rssny.org//NONSGML kigkonsult.se iCalcreator 2.30.10//
CALSCALE:GREGORIAN
METHOD:PUBLISH
UID:00e621c4-2b7a-458e-9e2a-3511143338b7
X-WR-CALDESC:
X-WR-RELCALID:0c17c0b6b64c8be6c3b590f20955fb00
X-WR-TIMEZONE:America/New_York
BEGIN:VTIMEZONE
TZID:America/New_York
BEGIN:STANDARD
TZNAME:EST
DTSTART:20241103T020000
TZOFFSETFROM:-0400
TZOFFSETTO:-0500
RDATE:20251102T020000
RDATE:20261101T020000
END:STANDARD
BEGIN:DAYLIGHT
TZNAME:EDT
DTSTART:20250309T020000
TZOFFSETFROM:-0500
TZOFFSETTO:-0400
RDATE:20260308T020000
RDATE:20270314T020000
END:DAYLIGHT
END:VTIMEZONE
BEGIN:VEVENT
UID:a8955330-34b8-4619-a587-eb7aa7509cbc
DTSTAMP:20260421T075159Z
DESCRIPTION:
DTSTART;TZID=America/New_York:20250923T120000
DTEND;TZID=America/New_York:20250923T130000
LOCATION:
SUMMARY:Lunch In Center
END:VEVENT
END:VCALENDAR
