BEGIN:VCALENDAR
VERSION:2.0
PRODID:-//rssny.org//NONSGML kigkonsult.se iCalcreator 2.30.10//
CALSCALE:GREGORIAN
METHOD:PUBLISH
UID:5e734a53-4f15-410d-9384-91f9e398d8c3
X-WR-CALDESC:Join us for breakfast at the Center!
X-WR-RELCALID:8640924b2dff6814fa63f10265fd4c67
X-WR-TIMEZONE:America/New_York
BEGIN:VTIMEZONE
TZID:America/New_York
BEGIN:STANDARD
TZNAME:EST
DTSTART:20241103T020000
TZOFFSETFROM:-0400
TZOFFSETTO:-0500
RDATE:20251102T020000
RDATE:20261101T020000
END:STANDARD
BEGIN:DAYLIGHT
TZNAME:EDT
DTSTART:20250309T020000
TZOFFSETFROM:-0500
TZOFFSETTO:-0400
RDATE:20260308T020000
RDATE:20270314T020000
END:DAYLIGHT
END:VTIMEZONE
BEGIN:VEVENT
UID:0e2fbde4-74b6-4ea4-a0d7-7bc3d0416e35
DTSTAMP:20260421T075609Z
DESCRIPTION:Join us for breakfast at the Center!
DTSTART;TZID=America/New_York:20250917T090000
DTEND;TZID=America/New_York:20250917T100000
LOCATION:
SUMMARY:Breakfast Club (In Center)
END:VEVENT
END:VCALENDAR
