BEGIN:VCALENDAR
VERSION:2.0
PRODID:-//rssny.org//NONSGML kigkonsult.se iCalcreator 2.30.10//
CALSCALE:GREGORIAN
METHOD:PUBLISH
UID:75b8884d-0960-4f39-b085-eb598bce5933
X-WR-CALDESC:Enjoy an afternoon of theater! The JB Players\, a talented gro
 up of our community center members\, will perform a collection of short pl
 ays.
X-WR-RELCALID:6affd5329c2b9d5abdbbf0a290d03252
X-WR-TIMEZONE:America/New_York
BEGIN:VTIMEZONE
TZID:America/New_York
BEGIN:STANDARD
TZNAME:EST
DTSTART:20241103T020000
TZOFFSETFROM:-0400
TZOFFSETTO:-0500
RDATE:20251102T020000
RDATE:20261101T020000
END:STANDARD
BEGIN:DAYLIGHT
TZNAME:EDT
DTSTART:20250309T020000
TZOFFSETFROM:-0500
TZOFFSETTO:-0400
RDATE:20260308T020000
RDATE:20270314T020000
END:DAYLIGHT
END:VTIMEZONE
BEGIN:VEVENT
UID:b5a60f32-4bc2-4c9d-aad0-183c499c19a2
DTSTAMP:20260421T075804Z
DESCRIPTION:Enjoy an afternoon of theater! The JB Players\, a talented grou
 p of our community center members\, will perform a collection of short pla
 ys.
DTSTART;TZID=America/New_York:20250916T133000
DTEND;TZID=America/New_York:20250916T143000
LOCATION:
SUMMARY:The JB Players presents: Vignettes from the Stage (In Center)
END:VEVENT
END:VCALENDAR
